BEGIN:VCALENDAR
VERSION:2.0
PRODID:-//hacksw/handcal//NONSGML v1.0//EN
CALSCALE:GREGORIAN
BEGIN:VEVENT
ORGANIZER;CN=Comcast Corporation:MAILTO:no-reply@mail.gcs-web.com
DTEND:
UID:f0052462-32d6-4352-b01b-cf9bbfb476f7
DTSTAMP:1776782812
LOCATION:https://edge.media-server.com/mmc/p/6tkch4qc/
DESCRIPTION:Event Details https://www.cmcsa.com/events/event-details/q1-2026-comcast-corporation-earnings-conference-call\n\nWebcast: https://edge.media-server.com/mmc/p/6tkch4qc/
URL;VALUE=URI:https://edge.media-server.com/mmc/p/6tkch4qc/
SUMMARY:Comcast Corporation - Q1 2026 Comcast Corporation Earnings Conference Call
DTSTART:20260423T123000Z
END:VEVENT
END:VCALENDAR